Workbook

Sheet Skills Matrix Dark
B2: TEAM SKILLS MATRIX
B4: ENTER: names in B8:B37, roles in C8:C37 and scores from 0 to 4 in D8:K37. Replace the examples. Leave unassessed scores blank.
B5: This is the dark template. Worksheet hints are on the right. Full instructions: Read Me Dark. | C5: Use the Dark tabs together. Light and Dark are separate copies and do not sync. Full instructions: Read Me Dark. | D5: Use the Dark tabs together. Light and Dark are separate copies and do not sync. Full instructions: Read Me Dark. | E5: Use the Dark tabs together. Light and Dark are separate copies and do not sync. Full instructions: Read Me Dark. | F5: Use the Dark tabs together. Light and Dark are separate copies and do not sync. Full instructions: Read Me Dark. | G5: Use the Dark tabs together. Light and Dark are separate copies and do not sync. Full instructions: Read Me Dark. | H5: Use the Dark tabs together. Light and Dark are separate copies and do not sync. Full instructions: Read Me Dark. | I5: Use the Dark tabs together. Light and Dark are separate copies and do not sync. Full instructions: Read Me Dark. | J5: Use the Dark tabs together. Light and Dark are separate copies and do not sync. Full instructions: Read Me Dark. | K5: Use the Dark tabs together. Light and Dark are separate copies and do not sync. Full instructions: Read Me Dark. | L5: Use the Dark tabs together. Light and Dark are separate copies and do not sync. Full instructions: Read Me Dark. | M5: Use the Dark tabs together. Light and Dark are separate copies and do not sync. Full instructions: Read Me Dark. | N5: Use the Dark tabs together. Light and Dark are separate copies and do not sync. Full instructions: Read Me Dark. | O5: Use the Dark tabs together. Light and Dark are separate copies and do not sync. Full instructions: Read Me Dark. | P5: Use the Dark tabs together. Light and Dark are separate copies and do not sync. Full instructions: Read Me Dark.
B7: Team member | C7: Role | D7: Planning | E7: Stakeholder engagement | F7: Risk management | G7: Data analysis | H7: Excel | I7: Communication | J7: Agile delivery | K7: Reporting | M7: WORKSHEET HINTS | N7: WORKSHEET HINTS | O7: WORKSHEET HINTS | P7: WORKSHEET HINTS
B8: Alex Morgan | C8: Project Manager | D8: 4 | E8: 4 | F8: 3 | G8: 2 | H8: 3 | I8: 4 | J8: 3 | K8: 4 | M8: SET UP FIRST Set the required levels on Role Targets. Copy each role name exactly. Use one row per person, up to row 37. | N8: SET UP FIRST Set the required levels on Role Targets. Copy each role name exactly. Use one row per person, up to row 37. | O8: SET UP FIRST Set the required levels on Role Targets. Copy each role name exactly. Use one row per person, up to row 37. | P8: SET UP FIRST Set the required levels on Role Targets. Copy each role name exactly. Use one row per person, up to row 37.
B9: Sam Patel | C9: Business Analyst | D9: 3 | E9: 4 | F9: 2 | G9: 4 | H9: 4 | I9: 4 | J9: 3 | K9: 3 | M9: SET UP FIRST Set the required levels on Role Targets. Copy each role name exactly. Use one row per person, up to row 37. | N9: SET UP FIRST Set the required levels on Role Targets. Copy each role name exactly. Use one row per person, up to row 37. | O9: SET UP FIRST Set the required levels on Role Targets. Copy each role name exactly. Use one row per person, up to row 37. | P9: SET UP FIRST Set the required levels on Role Targets. Copy each role name exactly. Use one row per person, up to row 37.
B10: Jordan Lee | C10: Developer | D10: 2 | E10: 2 | F10: 2 | G10: 3 | H10: 3 | I10: 3 | J10: 4 | K10: 2 | M10: SET UP FIRST Set the required levels on Role Targets. Copy each role name exactly. Use one row per person, up to row 37. | N10: SET UP FIRST Set the required levels on Role Targets. Copy each role name exactly. Use one row per person, up to row 37. | O10: SET UP FIRST Set the required levels on Role Targets. Copy each role name exactly. Use one row per person, up to row 37. | P10: SET UP FIRST Set the required levels on Role Targets. Copy each role name exactly. Use one row per person, up to row 37.
B11: Taylor Reed | C11: Project Manager | D11: 4 | E11: 3 | F11: 4 | G11: 2 | H11: 3 | I11: 2 | J11: 3 | K11: 4 | M11: SET UP FIRST Set the required levels on Role Targets. Copy each role name exactly. Use one row per person, up to row 37. | N11: SET UP FIRST Set the required levels on Role Targets. Copy each role name exactly. Use one row per person, up to row 37. | O11: SET UP FIRST Set the required levels on Role Targets. Copy each role name exactly. Use one row per person, up to row 37. | P11: SET UP FIRST Set the required levels on Role Targets. Copy each role name exactly. Use one row per person, up to row 37.
B12: Casey Brown | C12: Business Analyst | D12: 3 | E12: 4 | F12: 3 | G12: 4 | H12: 4 | I12: 3 | J12: 3 | K12: 3
B13: Robin Clark | C13: Developer | D13: 1 | E13: 2 | F13: 3 | G13: 4 | H13: 3 | I13: 3 | J13: 4 | K13: 2 | M13: READ THE COLOURS Green: meets or exceeds the role target. Amber: 1 level below. Red: 2 or more levels below. | N13: READ THE COLOURS Green: meets or exceeds the role target. Amber: 1 level below. Red: 2 or more levels below. | O13: READ THE COLOURS Green: meets or exceeds the role target. Amber: 1 level below. Red: 2 or more levels below. | P13: READ THE COLOURS Green: meets or exceeds the role target. Amber: 1 level below. Red: 2 or more levels below.
B14: Jamie Evans | C14: Project Coordinator | D14: 3 | E14: 1 | F14: 2 | G14: 3 | H14: 4 | I14: 4 | J14: 2 | K14: 4 | M14: READ THE COLOURS Green: meets or exceeds the role target. Amber: 1 level below. Red: 2 or more levels below. | N14: READ THE COLOURS Green: meets or exceeds the role target. Amber: 1 level below. Red: 2 or more levels below. | O14: READ THE COLOURS Green: meets or exceeds the role target. Amber: 1 level below. Red: 2 or more levels below. | P14: READ THE COLOURS Green: meets or exceeds the role target. Amber: 1 level below. Red: 2 or more levels below.
B15: Morgan Shah | C15: Developer | D15: 1 | E15: 3 | F15: 3 | G15: 4 | H15: 4 | I15: 3 | J15: 4 | K15: 3 | M15: READ THE COLOURS Green: meets or exceeds the role target. Amber: 1 level below. Red: 2 or more levels below. | N15: READ THE COLOURS Green: meets or exceeds the role target. Amber: 1 level below. Red: 2 or more levels below. | O15: READ THE COLOURS Green: meets or exceeds the role target. Amber: 1 level below. Red: 2 or more levels below. | P15: READ THE COLOURS Green: meets or exceeds the role target. Amber: 1 level below. Red: 2 or more levels below.
M16: READ THE COLOURS Green: meets or exceeds the role target. Amber: 1 level below. Red: 2 or more levels below. | N16: READ THE COLOURS Green: meets or exceeds the role target. Amber: 1 level below. Red: 2 or more levels below. | O16: READ THE COLOURS Green: meets or exceeds the role target. Amber: 1 level below. Red: 2 or more levels below. | P16: READ THE COLOURS Green: meets or exceeds the role target. Amber: 1 level below. Red: 2 or more levels below.
M18: SAME SCORE, DIFFERENT COLOUR A score of 2 is green against target 2, amber against target 3 and red against target 4. | N18: SAME SCORE, DIFFERENT COLOUR A score of 2 is green against target 2, amber against target 3 and red against target 4. | O18: SAME SCORE, DIFFERENT COLOUR A score of 2 is green against target 2, amber against target 3 and red against target 4. | P18: SAME SCORE, DIFFERENT COLOUR A score of 2 is green against target 2, amber against target 3 and red against target 4.
M19: SAME SCORE, DIFFERENT COLOUR A score of 2 is green against target 2, amber against target 3 and red against target 4. | N19: SAME SCORE, DIFFERENT COLOUR A score of 2 is green against target 2, amber against target 3 and red against target 4. | O19: SAME SCORE, DIFFERENT COLOUR A score of 2 is green against target 2, amber against target 3 and red against target 4. | P19: SAME SCORE, DIFFERENT COLOUR A score of 2 is green against target 2, amber against target 3 and red against target 4.
M20: SAME SCORE, DIFFERENT COLOUR A score of 2 is green against target 2, amber against target 3 and red against target 4. | N20: SAME SCORE, DIFFERENT COLOUR A score of 2 is green against target 2, amber against target 3 and red against target 4. | O20: SAME SCORE, DIFFERENT COLOUR A score of 2 is green against target 2, amber against target 3 and red against target 4. | P20: SAME SCORE, DIFFERENT COLOUR A score of 2 is green against target 2, amber against target 3 and red against target 4.
M21: SAME SCORE, DIFFERENT COLOUR A score of 2 is green against target 2, amber against target 3 and red against target 4. | N21: SAME SCORE, DIFFERENT COLOUR A score of 2 is green against target 2, amber against target 3 and red against target 4. | O21: SAME SCORE, DIFFERENT COLOUR A score of 2 is green against target 2, amber against target 3 and red against target 4. | P21: SAME SCORE, DIFFERENT COLOUR A score of 2 is green against target 2, amber against target 3 and red against target 4.
M23: BLANK IS NOT ZERO Blank means not yet assessed. A score of 0 means assessed with no experience. A neutral cell may have no matching role or skill. | N23: BLANK IS NOT ZERO Blank means not yet assessed. A score of 0 means assessed with no experience. A neutral cell may have no matching role or skill. | O23: BLANK IS NOT ZERO Blank means not yet assessed. A score of 0 means assessed with no experience. A neutral cell may have no matching role or skill. | P23: BLANK IS NOT ZERO Blank means not yet assessed. A score of 0 means assessed with no experience. A neutral cell may have no matching role or skill.
M24: BLANK IS NOT ZERO Blank means not yet assessed. A score of 0 means assessed with no experience. A neutral cell may have no matching role or skill. | N24: BLANK IS NOT ZERO Blank means not yet assessed. A score of 0 means assessed with no experience. A neutral cell may have no matching role or skill. | O24: BLANK IS NOT ZERO Blank means not yet assessed. A score of 0 means assessed with no experience. A neutral cell may have no matching role or skill. | P24: BLANK IS NOT ZERO Blank means not yet assessed. A score of 0 means assessed with no experience. A neutral cell may have no matching role or skill.
M25: BLANK IS NOT ZERO Blank means not yet assessed. A score of 0 means assessed with no experience. A neutral cell may have no matching role or skill. | N25: BLANK IS NOT ZERO Blank means not yet assessed. A score of 0 means assessed with no experience. A neutral cell may have no matching role or skill. | O25: BLANK IS NOT ZERO Blank means not yet assessed. A score of 0 means assessed with no experience. A neutral cell may have no matching role or skill. | P25: BLANK IS NOT ZERO Blank means not yet assessed. A score of 0 means assessed with no experience. A neutral cell may have no matching role or skill.
M26: BLANK IS NOT ZERO Blank means not yet assessed. A score of 0 means assessed with no experience. A neutral cell may have no matching role or skill. | N26: BLANK IS NOT ZERO Blank means not yet assessed. A score of 0 means assessed with no experience. A neutral cell may have no matching role or skill. | O26: BLANK IS NOT ZERO Blank means not yet assessed. A score of 0 means assessed with no experience. A neutral cell may have no matching role or skill. | P26: BLANK IS NOT ZERO Blank means not yet assessed. A score of 0 means assessed with no experience. A neutral cell may have no matching role or skill.
M28: USE EVIDENCE Agree scores using recent work examples. See the scale below. When removing a person, clear their name, role and scores. | N28: USE EVIDENCE Agree scores using recent work examples. See the scale below. When removing a person, clear their name, role and scores. | O28: USE EVIDENCE Agree scores using recent work examples. See the scale below. When removing a person, clear their name, role and scores. | P28: USE EVIDENCE Agree scores using recent work examples. See the scale below. When removing a person, clear their name, role and scores.
M29: USE EVIDENCE Agree scores using recent work examples. See the scale below. When removing a person, clear their name, role and scores. | N29: USE EVIDENCE Agree scores using recent work examples. See the scale below. When removing a person, clear their name, role and scores. | O29: USE EVIDENCE Agree scores using recent work examples. See the scale below. When removing a person, clear their name, role and scores. | P29: USE EVIDENCE Agree scores using recent work examples. See the scale below. When removing a person, clear their name, role and scores.
M30: USE EVIDENCE Agree scores using recent work examples. See the scale below. When removing a person, clear their name, role and scores. | N30: USE EVIDENCE Agree scores using recent work examples. See the scale below. When removing a person, clear their name, role and scores. | O30: USE EVIDENCE Agree scores using recent work examples. See the scale below. When removing a person, clear their name, role and scores. | P30: USE EVIDENCE Agree scores using recent work examples. See the scale below. When removing a person, clear their name, role and scores.
M31: USE EVIDENCE Agree scores using recent work examples. See the scale below. When removing a person, clear their name, role and scores. | N31: USE EVIDENCE Agree scores using recent work examples. See the scale below. When removing a person, clear their name, role and scores. | O31: USE EVIDENCE Agree scores using recent work examples. See the scale below. When removing a person, clear their name, role and scores. | P31: USE EVIDENCE Agree scores using recent work examples. See the scale below. When removing a person, clear their name, role and scores.
B40: Score | C40: Meaning
B41: 0 | C41: No experience: has not done this work.
B42: 1 | C42: Awareness: understands the basics but cannot yet do the task.
B43: 2 | C43: Basic: can do the task with support or checking.
B44: 3 | C44: Independent: can do the task to the required standard without routine help.
B45: 4 | C45: Expert: can handle complex work and coach others.

Sheet Role Targets Dark
B2: ROLE SKILL TARGETS
B4: ENTER: unique role names in B8:B25 and required levels from 0 to 4 in C8:J25. Complete all eight targets for every role you use.
B5: This is the dark template. Worksheet hints are on the right. Full instructions: Read Me Dark. | C5: Use the Dark tabs together. Light and Dark are separate copies and do not sync. Full instructions: Read Me Dark. | D5: Use the Dark tabs together. Light and Dark are separate copies and do not sync. Full instructions: Read Me Dark. | E5: Use the Dark tabs together. Light and Dark are separate copies and do not sync. Full instructions: Read Me Dark. | F5: Use the Dark tabs together. Light and Dark are separate copies and do not sync. Full instructions: Read Me Dark. | G5: Use the Dark tabs together. Light and Dark are separate copies and do not sync. Full instructions: Read Me Dark. | H5: Use the Dark tabs together. Light and Dark are separate copies and do not sync. Full instructions: Read Me Dark. | I5: Use the Dark tabs together. Light and Dark are separate copies and do not sync. Full instructions: Read Me Dark. | J5: Use the Dark tabs together. Light and Dark are separate copies and do not sync. Full instructions: Read Me Dark. | K5: Use the Dark tabs together. Light and Dark are separate copies and do not sync. Full instructions: Read Me Dark. | L5: Use the Dark tabs together. Light and Dark are separate copies and do not sync. Full instructions: Read Me Dark. | M5: Use the Dark tabs together. Light and Dark are separate copies and do not sync. Full instructions: Read Me Dark. | N5: Use the Dark tabs together. Light and Dark are separate copies and do not sync. Full instructions: Read Me Dark. | O5: Use the Dark tabs together. Light and Dark are separate copies and do not sync. Full instructions: Read Me Dark. | P5: Use the Dark tabs together. Light and Dark are separate copies and do not sync. Full instructions: Read Me Dark.
B7: Role | C7: Planning | D7: Stakeholder engagement | E7: Risk management | F7: Data analysis | G7: Excel | H7: Communication | I7: Agile delivery | J7: Reporting | L7: WORKSHEET HINTS | M7: WORKSHEET HINTS | N7: WORKSHEET HINTS | O7: WORKSHEET HINTS | P7: WORKSHEET HINTS
B8: Project Manager | C8: 4 | D8: 4 | E8: 4 | F8: 2 | G8: 3 | H8: 4 | I8: 3 | J8: 4 | L8: SET THE REQUIREMENT Agree what each role needs to do. The supplied targets are examples. Use the same 0 to 4 scale as the Skills Matrix. | M8: SET THE REQUIREMENT Agree what each role needs to do. The supplied targets are examples. Use the same 0 to 4 scale as the Skills Matrix. | N8: SET THE REQUIREMENT Agree what each role needs to do. The supplied targets are examples. Use the same 0 to 4 scale as the Skills Matrix. | O8: SET THE REQUIREMENT Agree what each role needs to do. The supplied targets are examples. Use the same 0 to 4 scale as the Skills Matrix. | P8: SET THE REQUIREMENT Agree what each role needs to do. The supplied targets are examples. Use the same 0 to 4 scale as the Skills Matrix.
B9: Business Analyst | C9: 3 | D9: 4 | E9: 2 | F9: 4 | G9: 4 | H9: 4 | I9: 3 | J9: 3 | L9: SET THE REQUIREMENT Agree what each role needs to do. The supplied targets are examples. Use the same 0 to 4 scale as the Skills Matrix. | M9: SET THE REQUIREMENT Agree what each role needs to do. The supplied targets are examples. Use the same 0 to 4 scale as the Skills Matrix. | N9: SET THE REQUIREMENT Agree what each role needs to do. The supplied targets are examples. Use the same 0 to 4 scale as the Skills Matrix. | O9: SET THE REQUIREMENT Agree what each role needs to do. The supplied targets are examples. Use the same 0 to 4 scale as the Skills Matrix. | P9: SET THE REQUIREMENT Agree what each role needs to do. The supplied targets are examples. Use the same 0 to 4 scale as the Skills Matrix.
B10: Developer | C10: 2 | D10: 2 | E10: 2 | F10: 3 | G10: 3 | H10: 3 | I10: 4 | J10: 2 | L10: SET THE REQUIREMENT Agree what each role needs to do. The supplied targets are examples. Use the same 0 to 4 scale as the Skills Matrix. | M10: SET THE REQUIREMENT Agree what each role needs to do. The supplied targets are examples. Use the same 0 to 4 scale as the Skills Matrix. | N10: SET THE REQUIREMENT Agree what each role needs to do. The supplied targets are examples. Use the same 0 to 4 scale as the Skills Matrix. | O10: SET THE REQUIREMENT Agree what each role needs to do. The supplied targets are examples. Use the same 0 to 4 scale as the Skills Matrix. | P10: SET THE REQUIREMENT Agree what each role needs to do. The supplied targets are examples. Use the same 0 to 4 scale as the Skills Matrix.
B11: Project Coordinator | C11: 3 | D11: 3 | E11: 2 | F11: 2 | G11: 4 | H11: 4 | I11: 2 | J11: 4 | L11: SET THE REQUIREMENT Agree what each role needs to do. The supplied targets are examples. Use the same 0 to 4 scale as the Skills Matrix. | M11: SET THE REQUIREMENT Agree what each role needs to do. The supplied targets are examples. Use the same 0 to 4 scale as the Skills Matrix. | N11: SET THE REQUIREMENT Agree what each role needs to do. The supplied targets are examples. Use the same 0 to 4 scale as the Skills Matrix. | O11: SET THE REQUIREMENT Agree what each role needs to do. The supplied targets are examples. Use the same 0 to 4 scale as the Skills Matrix. | P11: SET THE REQUIREMENT Agree what each role needs to do. The supplied targets are examples. Use the same 0 to 4 scale as the Skills Matrix.
L13: USE UNIQUE ROLE NAMES The lookup uses the first matching role. Do not repeat a role with different targets. Avoid extra spaces in names. | M13: USE UNIQUE ROLE NAMES The lookup uses the first matching role. Do not repeat a role with different targets. Avoid extra spaces in names. | N13: USE UNIQUE ROLE NAMES The lookup uses the first matching role. Do not repeat a role with different targets. Avoid extra spaces in names. | O13: USE UNIQUE ROLE NAMES The lookup uses the first matching role. Do not repeat a role with different targets. Avoid extra spaces in names. | P13: USE UNIQUE ROLE NAMES The lookup uses the first matching role. Do not repeat a role with different targets. Avoid extra spaces in names.
L14: USE UNIQUE ROLE NAMES The lookup uses the first matching role. Do not repeat a role with different targets. Avoid extra spaces in names. | M14: USE UNIQUE ROLE NAMES The lookup uses the first matching role. Do not repeat a role with different targets. Avoid extra spaces in names. | N14: USE UNIQUE ROLE NAMES The lookup uses the first matching role. Do not repeat a role with different targets. Avoid extra spaces in names. | O14: USE UNIQUE ROLE NAMES The lookup uses the first matching role. Do not repeat a role with different targets. Avoid extra spaces in names. | P14: USE UNIQUE ROLE NAMES The lookup uses the first matching role. Do not repeat a role with different targets. Avoid extra spaces in names.
L15: USE UNIQUE ROLE NAMES The lookup uses the first matching role. Do not repeat a role with different targets. Avoid extra spaces in names. | M15: USE UNIQUE ROLE NAMES The lookup uses the first matching role. Do not repeat a role with different targets. Avoid extra spaces in names. | N15: USE UNIQUE ROLE NAMES The lookup uses the first matching role. Do not repeat a role with different targets. Avoid extra spaces in names. | O15: USE UNIQUE ROLE NAMES The lookup uses the first matching role. Do not repeat a role with different targets. Avoid extra spaces in names. | P15: USE UNIQUE ROLE NAMES The lookup uses the first matching role. Do not repeat a role with different targets. Avoid extra spaces in names.
L16: USE UNIQUE ROLE NAMES The lookup uses the first matching role. Do not repeat a role with different targets. Avoid extra spaces in names. | M16: USE UNIQUE ROLE NAMES The lookup uses the first matching role. Do not repeat a role with different targets. Avoid extra spaces in names. | N16: USE UNIQUE ROLE NAMES The lookup uses the first matching role. Do not repeat a role with different targets. Avoid extra spaces in names. | O16: USE UNIQUE ROLE NAMES The lookup uses the first matching role. Do not repeat a role with different targets. Avoid extra spaces in names. | P16: USE UNIQUE ROLE NAMES The lookup uses the first matching role. Do not repeat a role with different targets. Avoid extra spaces in names.
L18: COMPLETE EVERY TARGET Use 0 when no capability is required. Do not leave a target blank: the gap formula can treat it as 0 and hide a gap. | M18: COMPLETE EVERY TARGET Use 0 when no capability is required. Do not leave a target blank: the gap formula can treat it as 0 and hide a gap. | N18: COMPLETE EVERY TARGET Use 0 when no capability is required. Do not leave a target blank: the gap formula can treat it as 0 and hide a gap. | O18: COMPLETE EVERY TARGET Use 0 when no capability is required. Do not leave a target blank: the gap formula can treat it as 0 and hide a gap. | P18: COMPLETE EVERY TARGET Use 0 when no capability is required. Do not leave a target blank: the gap formula can treat it as 0 and hide a gap.
L19: COMPLETE EVERY TARGET Use 0 when no capability is required. Do not leave a target blank: the gap formula can treat it as 0 and hide a gap. | M19: COMPLETE EVERY TARGET Use 0 when no capability is required. Do not leave a target blank: the gap formula can treat it as 0 and hide a gap. | N19: COMPLETE EVERY TARGET Use 0 when no capability is required. Do not leave a target blank: the gap formula can treat it as 0 and hide a gap. | O19: COMPLETE EVERY TARGET Use 0 when no capability is required. Do not leave a target blank: the gap formula can treat it as 0 and hide a gap. | P19: COMPLETE EVERY TARGET Use 0 when no capability is required. Do not leave a target blank: the gap formula can treat it as 0 and hide a gap.
L20: COMPLETE EVERY TARGET Use 0 when no capability is required. Do not leave a target blank: the gap formula can treat it as 0 and hide a gap. | M20: COMPLETE EVERY TARGET Use 0 when no capability is required. Do not leave a target blank: the gap formula can treat it as 0 and hide a gap. | N20: COMPLETE EVERY TARGET Use 0 when no capability is required. Do not leave a target blank: the gap formula can treat it as 0 and hide a gap. | O20: COMPLETE EVERY TARGET Use 0 when no capability is required. Do not leave a target blank: the gap formula can treat it as 0 and hide a gap. | P20: COMPLETE EVERY TARGET Use 0 when no capability is required. Do not leave a target blank: the gap formula can treat it as 0 and hide a gap.
L21: COMPLETE EVERY TARGET Use 0 when no capability is required. Do not leave a target blank: the gap formula can treat it as 0 and hide a gap. | M21: COMPLETE EVERY TARGET Use 0 when no capability is required. Do not leave a target blank: the gap formula can treat it as 0 and hide a gap. | N21: COMPLETE EVERY TARGET Use 0 when no capability is required. Do not leave a target blank: the gap formula can treat it as 0 and hide a gap. | O21: COMPLETE EVERY TARGET Use 0 when no capability is required. Do not leave a target blank: the gap formula can treat it as 0 and hide a gap. | P21: COMPLETE EVERY TARGET Use 0 when no capability is required. Do not leave a target blank: the gap formula can treat it as 0 and hide a gap.
L23: KEEP THE SKILL ORDER Rename skills in the same positions on Skills Matrix, Role Targets, Gap Analysis and Dashboard. Do not reorder one tab alone. | M23: KEEP THE SKILL ORDER Rename skills in the same positions on Skills Matrix, Role Targets, Gap Analysis and Dashboard. Do not reorder one tab alone. | N23: KEEP THE SKILL ORDER Rename skills in the same positions on Skills Matrix, Role Targets, Gap Analysis and Dashboard. Do not reorder one tab alone. | O23: KEEP THE SKILL ORDER Rename skills in the same positions on Skills Matrix, Role Targets, Gap Analysis and Dashboard. Do not reorder one tab alone. | P23: KEEP THE SKILL ORDER Rename skills in the same positions on Skills Matrix, Role Targets, Gap Analysis and Dashboard. Do not reorder one tab alone.
L24: KEEP THE SKILL ORDER Rename skills in the same positions on Skills Matrix, Role Targets, Gap Analysis and Dashboard. Do not reorder one tab alone. | M24: KEEP THE SKILL ORDER Rename skills in the same positions on Skills Matrix, Role Targets, Gap Analysis and Dashboard. Do not reorder one tab alone. | N24: KEEP THE SKILL ORDER Rename skills in the same positions on Skills Matrix, Role Targets, Gap Analysis and Dashboard. Do not reorder one tab alone. | O24: KEEP THE SKILL ORDER Rename skills in the same positions on Skills Matrix, Role Targets, Gap Analysis and Dashboard. Do not reorder one tab alone. | P24: KEEP THE SKILL ORDER Rename skills in the same positions on Skills Matrix, Role Targets, Gap Analysis and Dashboard. Do not reorder one tab alone.
L25: KEEP THE SKILL ORDER Rename skills in the same positions on Skills Matrix, Role Targets, Gap Analysis and Dashboard. Do not reorder one tab alone. | M25: KEEP THE SKILL ORDER Rename skills in the same positions on Skills Matrix, Role Targets, Gap Analysis and Dashboard. Do not reorder one tab alone. | N25: KEEP THE SKILL ORDER Rename skills in the same positions on Skills Matrix, Role Targets, Gap Analysis and Dashboard. Do not reorder one tab alone. | O25: KEEP THE SKILL ORDER Rename skills in the same positions on Skills Matrix, Role Targets, Gap Analysis and Dashboard. Do not reorder one tab alone. | P25: KEEP THE SKILL ORDER Rename skills in the same positions on Skills Matrix, Role Targets, Gap Analysis and Dashboard. Do not reorder one tab alone.
L26: KEEP THE SKILL ORDER Rename skills in the same positions on Skills Matrix, Role Targets, Gap Analysis and Dashboard. Do not reorder one tab alone. | M26: KEEP THE SKILL ORDER Rename skills in the same positions on Skills Matrix, Role Targets, Gap Analysis and Dashboard. Do not reorder one tab alone. | N26: KEEP THE SKILL ORDER Rename skills in the same positions on Skills Matrix, Role Targets, Gap Analysis and Dashboard. Do not reorder one tab alone. | O26: KEEP THE SKILL ORDER Rename skills in the same positions on Skills Matrix, Role Targets, Gap Analysis and Dashboard. Do not reorder one tab alone. | P26: KEEP THE SKILL ORDER Rename skills in the same positions on Skills Matrix, Role Targets, Gap Analysis and Dashboard. Do not reorder one tab alone.
... L31: 18 ROLE SLOTS Use rows 8 to 25. Later rows are outside the gap calculation. To add more roles, extend the lookups and validation first. | M31: 18 ROLE SLOTS Use rows 8 to 25. Later rows are outside the gap calculation. To add more roles, extend the lookups and validation first. | N31: 18 ROLE SLOTS Use rows 8 to 25. Later rows are outside the gap calculation. To add more roles, extend the lookups and validation first. | O31: 18 ROLE SLOTS Use rows 8 to 25. Later rows are outside the gap calculation. To add more roles, extend the lookups and validation first. | P31: 18 ROLE SLOTS Use rows 8 to 25. Later rows are outside the gap calculation. To add more roles, extend the lookups and validation first.

Sheet Gap Analysis Dark
B2: SKILLS GAP ANALYSIS
B4: AUTOMATIC: gap = required level minus current score, with a minimum of 0. A gap of 1 means one level below the role target.
B5: This is the dark template. Worksheet hints are on the right. Full instructions: Read Me Dark. | C5: Use the Dark tabs together. Light and Dark are separate copies and do not sync. Full instructions: Read Me Dark. | D5: Use the Dark tabs together. Light and Dark are separate copies and do not sync. Full instructions: Read Me Dark. | E5: Use the Dark tabs together. Light and Dark are separate copies and do not sync. Full instructions: Read Me Dark. | F5: Use the Dark tabs together. Light and Dark are separate copies and do not sync. Full instructions: Read Me Dark. | G5: Use the Dark tabs together. Light and Dark are separate copies and do not sync. Full instructions: Read Me Dark. | H5: Use the Dark tabs together. Light and Dark are separate copies and do not sync. Full instructions: Read Me Dark. | I5: Use the Dark tabs together. Light and Dark are separate copies and do not sync. Full instructions: Read Me Dark. | J5: Use the Dark tabs together. Light and Dark are separate copies and do not sync. Full instructions: Read Me Dark. | K5: Use the Dark tabs together. Light and Dark are separate copies and do not sync. Full instructions: Read Me Dark. | L5: Use the Dark tabs together. Light and Dark are separate copies and do not sync. Full instructions: Read Me Dark. | M5: Use the Dark tabs together. Light and Dark are separate copies and do not sync. Full instructions: Read Me Dark. | N5: Use the Dark tabs together. Light and Dark are separate copies and do not sync. Full instructions: Read Me Dark. | O5: Use the Dark tabs together. Light and Dark are separate copies and do not sync. Full instructions: Read Me Dark. | P5: Use the Dark tabs together. Light and Dark are separate copies and do not sync. Full instructions: Read Me Dark.
B7: Team member | C7: Role | D7: Planning | E7: Stakeholder engagement | F7: Risk management | G7: Data analysis | H7: Excel | I7: Communication | J7: Agile delivery | K7: Reporting | L7: Total gap points | N7: WORKSHEET HINTS | O7: WORKSHEET HINTS | P7: WORKSHEET HINTS
B8: =IF('Skills Matrix Dark'!B8="","",'Skills Matrix Dark'!B8) -> Alex Morgan | C8: =IF(B8="","",'Skills Matrix Dark'!C8) -> Project Manager | D8: =IF(OR($B8="",'Skills Matrix Dark'!D8=""),"",IFERROR(MAX(0,INDEX('Role Targets Dark'!$C$8:$C$25,MATCH($C8,'Role Targets Dark'!$B$8:$B$25,0))-'Skills Matrix Dark'!D8),"")) -> 0 | E8: =IF(OR($B8="",'Skills Matrix Dark'!E8=""),"",IFERROR(MAX(0,INDEX('Role Targets Dark'!$D$8:$D$25,MATCH($C8,'Role Targets Dark'!$B$8:$B$25,0))-'Skills Matrix Dark'!E8),"")) -> 0 | F8: =IF(OR($B8="",'Skills Matrix Dark'!F8=""),"",IFERROR(MAX(0,INDEX('Role Targets Dark'!$E$8:$E$25,MATCH($C8,'Role Targets Dark'!$B$8:$B$25,0))-'Skills Matrix Dark'!F8),"")) -> 1 | G8: =IF(OR($B8="",'Skills Matrix Dark'!G8=""),"",IFERROR(MAX(0,INDEX('Role Targets Dark'!$F$8:$F$25,MATCH($C8,'Role Targets Dark'!$B$8:$B$25,0))-'Skills Matrix Dark'!G8),"")) -> 0 | H8: =IF(OR($B8="",'Skills Matrix Dark'!H8=""),"",IFERROR(MAX(0,INDEX('Role Targets Dark'!$G$8:$G$25,MATCH($C8,'Role Targets Dark'!$B$8:$B$25,0))-'Skills Matrix Dark'!H8),"")) -> 0 | I8: =IF(OR($B8="",'Skills Matrix Dark'!I8=""),"",IFERROR(MAX(0,INDEX('Role Targets Dark'!$H$8:$H$25,MATCH($C8,'Role Targets Dark'!$B$8:$B$25,0))-'Skills Matrix Dark'!I8),"")) -> 0 | J8: =IF(OR($B8="",'Skills Matrix Dark'!J8=""),"",IFERROR(MAX(0,INDEX('Role Targets Dark'!$I$8:$I$25,MATCH($C8,'Role Targets Dark'!$B$8:$B$25,0))-'Skills Matrix Dark'!J8),"")) -> 0 | K8: =IF(OR($B8="",'Skills Matrix Dark'!K8=""),"",IFERROR(MAX(0,INDEX('Role Targets Dark'!$J$8:$J$25,MATCH($C8,'Role Targets Dark'!$B$8:$B$25,0))-'Skills Matrix Dark'!K8),"")) -> 0 | L8: =IF(B8="","",SUM(D8:K8)) -> 1 | N8: CHANGE THE SOURCE Edit scores on Skills Matrix and requirements on Role Targets. Keep the formulas on this sheet. | O8: CHANGE THE SOURCE Edit scores on Skills Matrix and requirements on Role Targets. Keep the formulas on this sheet. | P8: CHANGE THE SOURCE Edit scores on Skills Matrix and requirements on Role Targets. Keep the formulas on this sheet.
B9: =IF('Skills Matrix Dark'!B9="","",'Skills Matrix Dark'!B9) -> Sam Patel | C9: =IF(B9="","",'Skills Matrix Dark'!C9) -> Business Analyst | D9: =IF(OR($B9="",'Skills Matrix Dark'!D9=""),"",IFERROR(MAX(0,INDEX('Role Targets Dark'!$C$8:$C$25,MATCH($C9,'Role Targets Dark'!$B$8:$B$25,0))-'Skills Matrix Dark'!D9),"")) -> 0 | E9: =IF(OR($B9="",'Skills Matrix Dark'!E9=""),"",IFERROR(MAX(0,INDEX('Role Targets Dark'!$D$8:$D$25,MATCH($C9,'Role Targets Dark'!$B$8:$B$25,0))-'Skills Matrix Dark'!E9),"")) -> 0 | F9: =IF(OR($B9="",'Skills Matrix Dark'!F9=""),"",IFERROR(MAX(0,INDEX('Role Targets Dark'!$E$8:$E$25,MATCH($C9,'Role Targets Dark'!$B$8:$B$25,0))-'Skills Matrix Dark'!F9),"")) -> 0 | G9: =IF(OR($B9="",'Skills Matrix Dark'!G9=""),"",IFERROR(MAX(0,INDEX('Role Targets Dark'!$F$8:$F$25,MATCH($C9,'Role Targets Dark'!$B$8:$B$25,0))-'Skills Matrix Dark'!G9),"")) -> 0 | H9: =IF(OR($B9="",'Skills Matrix Dark'!H9=""),"",IFERROR(MAX(0,INDEX('Role Targets Dark'!$G$8:$G$25,MATCH($C9,'Role Targets Dark'!$B$8:$B$25,0))-'Skills Matrix Dark'!H9),"")) -> 0 | I9: =IF(OR($B9="",'Skills Matrix Dark'!I9=""),"",IFERROR(MAX(0,INDEX('Role Targets Dark'!$H$8:$H$25,MATCH($C9,'Role Targets Dark'!$B$8:$B$25,0))-'Skills Matrix Dark'!I9),"")) -> 0 | J9: =IF(OR($B9="",'Skills Matrix Dark'!J9=""),"",IFERROR(MAX(0,INDEX('Role Targets Dark'!$I$8:$I$25,MATCH($C9,'Role Targets Dark'!$B$8:$B$25,0))-'Skills Matrix Dark'!J9),"")) -> 0 | K9: =IF(OR($B9="",'Skills Matrix Dark'!K9=""),"",IFERROR(MAX(0,INDEX('Role Targets Dark'!$J$8:$J$25,MATCH($C9,'Role Targets Dark'!$B$8:$B$25,0))-'Skills Matrix Dark'!K9),"")) -> 0 | L9: =IF(B9="","",SUM(D9:K9)) -> 0 | N9: CHANGE THE SOURCE Edit scores on Skills Matrix and requirements on Role Targets. Keep the formulas on this sheet. | O9: CHANGE THE SOURCE Edit scores on Skills Matrix and requirements on Role Targets. Keep the formulas on this sheet. | P9: CHANGE THE SOURCE Edit scores on Skills Matrix and requirements on Role Targets. Keep the formulas on this sheet.
B10: =IF('Skills Matrix Dark'!B10="","",'Skills Matrix Dark'!B10) -> Jordan Lee | C10: =IF(B10="","",'Skills Matrix Dark'!C10) -> Developer | D10: =IF(OR($B10="",'Skills Matrix Dark'!D10=""),"",IFERROR(MAX(0,INDEX('Role Targets Dark'!$C$8:$C$25,MATCH($C10,'Role Targets Dark'!$B$8:$B$25,0))-'Skills Matrix Dark'!D10),"")) -> 0 | E10: =IF(OR($B10="",'Skills Matrix Dark'!E10=""),"",IFERROR(MAX(0,INDEX('Role Targets Dark'!$D$8:$D$25,MATCH($C10,'Role Targets Dark'!$B$8:$B$25,0))-'Skills Matrix Dark'!E10),"")) -> 0 | F10: =IF(OR($B10="",'Skills Matrix Dark'!F10=""),"",IFERROR(MAX(0,INDEX('Role Targets Dark'!$E$8:$E$25,MATCH($C10,'Role Targets Dark'!$B$8:$B$25,0))-'Skills Matrix Dark'!F10),"")) -> 0 | G10: =IF(OR($B10="",'Skills Matrix Dark'!G10=""),"",IFERROR(MAX(0,INDEX('Role Targets Dark'!$F$8:$F$25,MATCH($C10,'Role Targets Dark'!$B$8:$B$25,0))-'Skills Matrix Dark'!G10),"")) -> 0 | H10: =IF(OR($B10="",'Skills Matrix Dark'!H10=""),"",IFERROR(MAX(0,INDEX('Role Targets Dark'!$G$8:$G$25,MATCH($C10,'Role Targets Dark'!$B$8:$B$25,0))-'Skills Matrix Dark'!H10),"")) -> 0 | I10: =IF(OR($B10="",'Skills Matrix Dark'!I10=""),"",IFERROR(MAX(0,INDEX('Role Targets Dark'!$H$8:$H$25,MATCH($C10,'Role Targets Dark'!$B$8:$B$25,0))-'Skills Matrix Dark'!I10),"")) -> 0 | J10: =IF(OR($B10="",'Skills Matrix Dark'!J10=""),"",IFERROR(MAX(0,INDEX('Role Targets Dark'!$I$8:$I$25,MATCH($C10,'Role Targets Dark'!$B$8:$B$25,0))-'Skills Matrix Dark'!J10),"")) -> 0 | K10: =IF(OR($B10="",'Skills Matrix Dark'!K10=""),"",IFERROR(MAX(0,INDEX('Role Targets Dark'!$J$8:$J$25,MATCH($C10,'Role Targets Dark'!$B$8:$B$25,0))-'Skills Matrix Dark'!K10),"")) -> 0 | L10: =IF(B10="","",SUM(D10:K10)) -> 0 | N10: CHANGE THE SOURCE Edit scores on Skills Matrix and requirements on Role Targets. Keep the formulas on this sheet. | O10: CHANGE THE SOURCE Edit scores on Skills Matrix and requirements on Role Targets. Keep the formulas on this sheet. | P10: CHANGE THE SOURCE Edit scores on Skills Matrix and requirements on Role Targets. Keep the formulas on this sheet.
B11: =IF('Skills Matrix Dark'!B11="","",'Skills Matrix Dark'!B11) -> Taylor Reed | C11: =IF(B11="","",'Skills Matrix Dark'!C11) -> Project Manager | D11: =IF(OR($B11="",'Skills Matrix Dark'!D11=""),"",IFERROR(MAX(0,INDEX('Role Targets Dark'!$C$8:$C$25,MATCH($C11,'Role Targets Dark'!$B$8:$B$25,0))-'Skills Matrix Dark'!D11),"")) -> 0 | E11: =IF(OR($B11="",'Skills Matrix Dark'!E11=""),"",IFERROR(MAX(0,INDEX('Role Targets Dark'!$D$8:$D$25,MATCH($C11,'Role Targets Dark'!$B$8:$B$25,0))-'Skills Matrix Dark'!E11),"")) -> 1 | F11: =IF(OR($B11="",'Skills Matrix Dark'!F11=""),"",IFERROR(MAX(0,INDEX('Role Targets Dark'!$E$8:$E$25,MATCH($C11,'Role Targets Dark'!$B$8:$B$25,0))-'Skills Matrix Dark'!F11),"")) -> 0 | G11: =IF(OR($B11="",'Skills Matrix Dark'!G11=""),"",IFERROR(MAX(0,INDEX('Role Targets Dark'!$F$8:$F$25,MATCH($C11,'Role Targets Dark'!$B$8:$B$25,0))-'Skills Matrix Dark'!G11),"")) -> 0 | H11: =IF(OR($B11="",'Skills Matrix Dark'!H11=""),"",IFERROR(MAX(0,INDEX('Role Targets Dark'!$G$8:$G$25,MATCH($C11,'Role Targets Dark'!$B$8:$B$25,0))-'Skills Matrix Dark'!H11),"")) -> 0 | I11: =IF(OR($B11="",'Skills Matrix Dark'!I11=""),"",IFERROR(MAX(0,INDEX('Role Targets Dark'!$H$8:$H$25,MATCH($C11,'Role Targets Dark'!$B$8:$B$25,0))-'Skills Matrix Dark'!I11),"")) -> 2 | J11: =IF(OR($B11="",'Skills Matrix Dark'!J11=""),"",IFERROR(MAX(0,INDEX('Role Targets Dark'!$I$8:$I$25,MATCH($C11,'Role Targets Dark'!$B$8:$B$25,0))-'Skills Matrix Dark'!J11),"")) -> 0 | K11: =IF(OR($B11="",'Skills Matrix Dark'!K11=""),"",IFERROR(MAX(0,INDEX('Role Targets Dark'!$J$8:$J$25,MATCH($C11,'Role Targets Dark'!$B$8:$B$25,0))-'Skills Matrix Dark'!K11),"")) -> 0 | L11: =IF(B11="","",SUM(D11:K11)) -> 3 | N11: CHANGE THE SOURCE Edit scores on Skills Matrix and requirements on Role Targets. Keep the formulas on this sheet. | O11: CHANGE THE SOURCE Edit scores on Skills Matrix and requirements on Role Targets. Keep the formulas on this sheet. | P11: CHANGE THE SOURCE Edit scores on Skills Matrix and requirements on Role Targets. Keep the formulas on this sheet.
B12: =IF('Skills Matrix Dark'!B12="","",'Skills Matrix Dark'!B12) -> Casey Brown | C12: =IF(B12="","",'Skills Matrix Dark'!C12) -> Business Analyst | D12: =IF(OR($B12="",'Skills Matrix Dark'!D12=""),"",IFERROR(MAX(0,INDEX('Role Targets Dark'!$C$8:$C$25,MATCH($C12,'Role Targets Dark'!$B$8:$B$25,0))-'Skills Matrix Dark'!D12),"")) -> 0 | E12: =IF(OR($B12="",'Skills Matrix Dark'!E12=""),"",IFERROR(MAX(0,INDEX('Role Targets Dark'!$D$8:$D$25,MATCH($C12,'Role Targets Dark'!$B$8:$B$25,0))-'Skills Matrix Dark'!E12),"")) -> 0 | F12: =IF(OR($B12="",'Skills Matrix Dark'!F12=""),"",IFERROR(MAX(0,INDEX('Role Targets Dark'!$E$8:$E$25,MATCH($C12,'Role Targets Dark'!$B$8:$B$25,0))-'Skills Matrix Dark'!F12),"")) -> 0 | G12: =IF(OR($B12="",'Skills Matrix Dark'!G12=""),"",IFERROR(MAX(0,INDEX('Role Targets Dark'!$F$8:$F$25,MATCH($C12,'Role Targets Dark'!$B$8:$B$25,0))-'Skills Matrix Dark'!G12),"")) -> 0 | H12: =IF(OR($B12="",'Skills Matrix Dark'!H12=""),"",IFERROR(MAX(0,INDEX('Role Targets Dark'!$G$8:$G$25,MATCH($C12,'Role Targets Dark'!$B$8:$B$25,0))-'Skills Matrix Dark'!H12),"")) -> 0 | I12: =IF(OR($B12="",'Skills Matrix Dark'!I12=""),"",IFERROR(MAX(0,INDEX('Role Targets Dark'!$H$8:$H$25,MATCH($C12,'Role Targets Dark'!$B$8:$B$25,0))-'Skills Matrix Dark'!I12),"")) -> 1 | J12: =IF(OR($B12="",'Skills Matrix Dark'!J12=""),"",IFERROR(MAX(0,INDEX('Role Targets Dark'!$I$8:$I$25,MATCH($C12,'Role Targets Dark'!$B$8:$B$25,0))-'Skills Matrix Dark'!J12),"")) -> 0 | K12: =IF(OR($B12="",'Skills Matrix Dark'!K12=""),"",IFERROR(MAX(0,INDEX('Role Targets Dark'!$J$8:$J$25,MATCH($C12,'Role Targets Dark'!$B$8:$B$25,0))-'Skills Matrix Dark'!K12),"")) -> 0 | L12: =IF(B12="","",SUM(D12:K12)) -> 1
B13: =IF('Skills Matrix Dark'!B13="","",'Skills Matrix Dark'!B13) -> Robin Clark | C13: =IF(B13="","",'Skills Matrix Dark'!C13) -> Developer | D13: =IF(OR($B13="",'Skills Matrix Dark'!D13=""),"",IFERROR(MAX(0,INDEX('Role Targets Dark'!$C$8:$C$25,MATCH($C13,'Role Targets Dark'!$B$8:$B$25,0))-'Skills Matrix Dark'!D13),"")) -> 1 | E13: =IF(OR($B13="",'Skills Matrix Dark'!E13=""),"",IFERROR(MAX(0,INDEX('Role Targets Dark'!$D$8:$D$25,MATCH($C13,'Role Targets Dark'!$B$8:$B$25,0))-'Skills Matrix Dark'!E13),"")) -> 0 | F13: =IF(OR($B13="",'Skills Matrix Dark'!F13=""),"",IFERROR(MAX(0,INDEX('Role Targets Dark'!$E$8:$E$25,MATCH($C13,'Role Targets Dark'!$B$8:$B$25,0))-'Skills Matrix Dark'!F13),"")) -> 0 | G13: =IF(OR($B13="",'Skills Matrix Dark'!G13=""),"",IFERROR(MAX(0,INDEX('Role Targets Dark'!$F$8:$F$25,MATCH($C13,'Role Targets Dark'!$B$8:$B$25,0))-'Skills Matrix Dark'!G13),"")) -> 0 | H13: =IF(OR($B13="",'Skills Matrix Dark'!H13=""),"",IFERROR(MAX(0,INDEX('Role Targets Dark'!$G$8:$G$25,MATCH($C13,'Role Targets Dark'!$B$8:$B$25,0))-'Skills Matrix Dark'!H13),"")) -> 0 | I13: =IF(OR($B13="",'Skills Matrix Dark'!I13=""),"",IFERROR(MAX(0,INDEX('Role Targets Dark'!$H$8:$H$25,MATCH($C13,'Role Targets Dark'!$B$8:$B$25,0))-'Skills Matrix Dark'!I13),"")) -> 0 | J13: =IF(OR($B13="",'Skills Matrix Dark'!J13=""),"",IFERROR(MAX(0,INDEX('Role Targets Dark'!$I$8:$I$25,MATCH($C13,'Role Targets Dark'!$B$8:$B$25,0))-'Skills Matrix Dark'!J13),"")) -> 0 | K13: =IF(OR($B13="",'Skills Matrix Dark'!K13=""),"",IFERROR(MAX(0,INDEX('Role Targets Dark'!$J$8:$J$25,MATCH($C13,'Role Targets Dark'!$B$8:$B$25,0))-'Skills Matrix Dark'!K13),"")) -> 0 | L13: =IF(B13="","",SUM(D13:K13)) -> 1 | N13: READ THE NUMBER 0 means the entered score meets or exceeds the target. A gap of 2 means two levels below. Total gap points adds the gaps across skills. | O13: READ THE NUMBER 0 means the entered score meets or exceeds the target. A gap of 2 means two levels below. Total gap points adds the gaps across skills. | P13: READ THE NUMBER 0 means the entered score meets or exceeds the target. A gap of 2 means two levels below. Total gap points adds the gaps across skills.
B14: =IF('Skills Matrix Dark'!B14="","",'Skills Matrix Dark'!B14) -> Jamie Evans | C14: =IF(B14="","",'Skills Matrix Dark'!C14) -> Project Coordinator | D14: =IF(OR($B14="",'Skills Matrix Dark'!D14=""),"",IFERROR(MAX(0,INDEX('Role Targets Dark'!$C$8:$C$25,MATCH($C14,'Role Targets Dark'!$B$8:$B$25,0))-'Skills Matrix Dark'!D14),"")) -> 0 | E14: =IF(OR($B14="",'Skills Matrix Dark'!E14=""),"",IFERROR(MAX(0,INDEX('Role Targets Dark'!$D$8:$D$25,MATCH($C14,'Role Targets Dark'!$B$8:$B$25,0))-'Skills Matrix Dark'!E14),"")) -> 2 | F14: =IF(OR($B14="",'Skills Matrix Dark'!F14=""),"",IFERROR(MAX(0,INDEX('Role Targets Dark'!$E$8:$E$25,MATCH($C14,'Role Targets Dark'!$B$8:$B$25,0))-'Skills Matrix Dark'!F14),"")) -> 0 | G14: =IF(OR($B14="",'Skills Matrix Dark'!G14=""),"",IFERROR(MAX(0,INDEX('Role Targets Dark'!$F$8:$F$25,MATCH($C14,'Role Targets Dark'!$B$8:$B$25,0))-'Skills Matrix Dark'!G14),"")) -> 0 | H14: =IF(OR($B14="",'Skills Matrix Dark'!H14=""),"",IFERROR(MAX(0,INDEX('Role Targets Dark'!$G$8:$G$25,MATCH($C14,'Role Targets Dark'!$B$8:$B$25,0))-'Skills Matrix Dark'!H14),"")) -> 0 | I14: =IF(OR($B14="",'Skills Matrix Dark'!I14=""),"",IFERROR(MAX(0,INDEX('Role Targets Dark'!$H$8:$H$25,MATCH($C14,'Role Targets Dark'!$B$8:$B$25,0))-'Skills Matrix Dark'!I14),"")) -> 0 | J14: =IF(OR($B14="",'Skills Matrix Dark'!J14=""),"",IFERROR(MAX(0,INDEX('Role Targets Dark'!$I$8:$I$25,MATCH($C14,'Role Targets Dark'!$B$8:$B$25,0))-'Skills Matrix Dark'!J14),"")) -> 0 | K14: =IF(OR($B14="",'Skills Matrix Dark'!K14=""),"",IFERROR(MAX(0,INDEX('Role Targets Dark'!$J$8:$J$25,MATCH($C14,'Role Targets Dark'!$B$8:$B$25,0))-'Skills Matrix Dark'!K14),"")) -> 0 | L14: =IF(B14="","",SUM(D14:K14)) -> 2 | N14: READ THE NUMBER 0 means the entered score meets or exceeds the target. A gap of 2 means two levels below. Total gap points adds the gaps across skills. | O14: READ THE NUMBER 0 means the entered score meets or exceeds the target. A gap of 2 means two levels below. Total gap points adds the gaps across skills. | P14: READ THE NUMBER 0 means the entered score meets or exceeds the target. A gap of 2 means two levels below. Total gap points adds the gaps across skills.
B15: =IF('Skills Matrix Dark'!B15="","",'Skills Matrix Dark'!B15) -> Morgan Shah | C15: =IF(B15="","",'Skills Matrix Dark'!C15) -> Developer | D15: =IF(OR($B15="",'Skills Matrix Dark'!D15=""),"",IFERROR(MAX(0,INDEX('Role Targets Dark'!$C$8:$C$25,MATCH($C15,'Role Targets Dark'!$B$8:$B$25,0))-'Skills Matrix Dark'!D15),"")) -> 1 | E15: =IF(OR($B15="",'Skills Matrix Dark'!E15=""),"",IFERROR(MAX(0,INDEX('Role Targets Dark'!$D$8:$D$25,MATCH($C15,'Role Targets Dark'!$B$8:$B$25,0))-'Skills Matrix Dark'!E15),"")) -> 0 | F15: =IF(OR($B15="",'Skills Matrix Dark'!F15=""),"",IFERROR(MAX(0,INDEX('Role Targets Dark'!$E$8:$E$25,MATCH($C15,'Role Targets Dark'!$B$8:$B$25,0))-'Skills Matrix Dark'!F15),"")) -> 0 | G15: =IF(OR($B15="",'Skills Matrix Dark'!G15=""),"",IFERROR(MAX(0,INDEX('Role Targets Dark'!$F$8:$F$25,MATCH($C15,'Role Targets Dark'!$B$8:$B$25,0))-'Skills Matrix Dark'!G15),"")) -> 0 | H15: =IF(OR($B15="",'Skills Matrix Dark'!H15=""),"",IFERROR(MAX(0,INDEX('Role Targets Dark'!$G$8:$G$25,MATCH($C15,'Role Targets Dark'!$B$8:$B$25,0))-'Skills Matrix Dark'!H15),"")) -> 0 | I15: =IF(OR($B15="",'Skills Matrix Dark'!I15=""),"",IFERROR(MAX(0,INDEX('Role Targets Dark'!$H$8:$H$25,MATCH($C15,'Role Targets Dark'!$B$8:$B$25,0))-'Skills Matrix Dark'!I15),"")) -> 0 | J15: =IF(OR($B15="",'Skills Matrix Dark'!J15=""),"",IFERROR(MAX(0,INDEX('Role Targets Dark'!$I$8:$I$25,MATCH($C15,'Role Targets Dark'!$B$8:$B$25,0))-'Skills Matrix Dark'!J15),"")) -> 0 | K15: =IF(OR($B15="",'Skills Matrix Dark'!K15=""),"",IFERROR(MAX(0,INDEX('Role Targets Dark'!$J$8:$J$25,MATCH($C15,'Role Targets Dark'!$B$8:$B$25,0))-'Skills Matrix Dark'!K15),"")) -> 0 | L15: =IF(B15="","",SUM(D15:K15)) -> 1 | N15: READ THE NUMBER 0 means the entered score meets or exceeds the target. A gap of 2 means two levels below. Total gap points adds the gaps across skills. | O15: READ THE NUMBER 0 means the entered score meets or exceeds the target. A gap of 2 means two levels below. Total gap points adds the gaps across skills. | P15: READ THE NUMBER 0 means the entered score meets or exceeds the target. A gap of 2 means two levels below. Total gap points adds the gaps across skills.
B16: =IF('Skills Matrix Dark'!B16="","",'Skills Matrix Dark'!B16) | C16: =IF(B16="","",'Skills Matrix Dark'!C16) | D16: =IF(OR($B16="",'Skills Matrix Dark'!D16=""),"",IFERROR(MAX(0,INDEX('Role Targets Dark'!$C$8:$C$25,MATCH($C16,'Role Targets Dark'!$B$8:$B$25,0))-'Skills Matrix Dark'!D16),"")) | E16: =IF(OR($B16="",'Skills Matrix Dark'!E16=""),"",IFERROR(MAX(0,INDEX('Role Targets Dark'!$D$8:$D$25,MATCH($C16,'Role Targets Dark'!$B$8:$B$25,0))-'Skills Matrix Dark'!E16),"")) | F16: =IF(OR($B16="",'Skills Matrix Dark'!F16=""),"",IFERROR(MAX(0,INDEX('Role Targets Dark'!$E$8:$E$25,MATCH($C16,'Role Targets Dark'!$B$8:$B$25,0))-'Skills Matrix Dark'!F16),"")) | G16: =IF(OR($B16="",'Skills Matrix Dark'!G16=""),"",IFERROR(MAX(0,INDEX('Role Targets Dark'!$F$8:$F$25,MATCH($C16,'Role Targets Dark'!$B$8:$B$25,0))-'Skills Matrix Dark'!G16),"")) | H16: =IF(OR($B16="",'Skills Matrix Dark'!H16=""),"",IFERROR(MAX(0,INDEX('Role Targets Dark'!$G$8:$G$25,MATCH($C16,'Role Targets Dark'!$B$8:$B$25,0))-'Skills Matrix Dark'!H16),"")) | I16: =IF(OR($B16="",'Skills Matrix Dark'!I16=""),"",IFERROR(MAX(0,INDEX('Role Targets Dark'!$H$8:$H$25,MATCH($C16,'Role Targets Dark'!$B$8:$B$25,0))-'Skills Matrix Dark'!I16),"")) | J16: =IF(OR($B16="",'Skills Matrix Dark'!J16=""),"",IFERROR(MAX(0,INDEX('Role Targets Dark'!$I$8:$I$25,MATCH($C16,'Role Targets Dark'!$B$8:$B$25,0))-'Skills Matrix Dark'!J16),"")) | K16: =IF(OR($B16="",'Skills Matrix Dark'!K16=""),"",IFERROR(MAX(0,INDEX('Role Targets Dark'!$J$8:$J$25,MATCH($C16,'Role Targets Dark'!$B$8:$B$25,0))-'Skills Matrix Dark'!K16),"")) | L16: =IF(B16="","",SUM(D16:K16)) | N16: READ THE NUMBER 0 means the entered score meets or exceeds the target. A gap of 2 means two levels below. Total gap points adds the gaps across skills. | O16: READ THE NUMBER 0 means the entered score meets or exceeds the target. A gap of 2 means two levels below. Total gap points adds the gaps across skills. | P16: READ THE NUMBER 0 means the entered score meets or exceeds the target. A gap of 2 means two levels below. Total gap points adds the gaps across skills.
B17: =IF('Skills Matrix Dark'!B17="","",'Skills Matrix Dark'!B17) | C17: =IF(B17="","",'Skills Matrix Dark'!C17) | D17: =IF(OR($B17="",'Skills Matrix Dark'!D17=""),"",IFERROR(MAX(0,INDEX('Role Targets Dark'!$C$8:$C$25,MATCH($C17,'Role Targets Dark'!$B$8:$B$25,0))-'Skills Matrix Dark'!D17),"")) | E17: =IF(OR($B17="",'Skills Matrix Dark'!E17=""),"",IFERROR(MAX(0,INDEX('Role Targets Dark'!$D$8:$D$25,MATCH($C17,'Role Targets Dark'!$B$8:$B$25,0))-'Skills Matrix Dark'!E17),"")) | F17: =IF(OR($B17="",'Skills Matrix Dark'!F17=""),"",IFERROR(MAX(0,INDEX('Role Targets Dark'!$E$8:$E$25,MATCH($C17,'Role Targets Dark'!$B$8:$B$25,0))-'Skills Matrix Dark'!F17),"")) | G17: =IF(OR($B17="",'Skills Matrix Dark'!G17=""),"",IFERROR(MAX(0,INDEX('Role Targets Dark'!$F$8:$F$25,MATCH($C17,'Role Targets Dark'!$B$8:$B$25,0))-'Skills Matrix Dark'!G17),"")) | H17: =IF(OR($B17="",'Skills Matrix Dark'!H17=""),"",IFERROR(MAX(0,INDEX('Role Targets Dark'!$G$8:$G$25,MATCH($C17,'Role Targets Dark'!$B$8:$B$25,0))-'Skills Matrix Dark'!H17),"")) | I17: =IF(OR($B17="",'Skills Matrix Dark'!I17=""),"",IFERROR(MAX(0,INDEX('Role Targets Dark'!$H$8:$H$25,MATCH($C17,'Role Targets Dark'!$B$8:$B$25,0))-'Skills Matrix Dark'!I17),"")) | J17: =IF(OR($B17="",'Skills Matrix Dark'!J17=""),"",IFERROR(MAX(0,INDEX('Role Targets Dark'!$I$8:$I$25,MATCH($C17,'Role Targets Dark'!$B$8:$B$25,0))-'Skills Matrix Dark'!J17),"")) | K17: =IF(OR($B17="",'Skills Matrix Dark'!K17=""),"",IFERROR(MAX(0,INDEX('Role Targets Dark'!$J$8:$J$25,MATCH($C17,'Role Targets Dark'!$B$8:$B$25,0))-'Skills Matrix Dark'!K17),"")) | L17: =IF(B17="","",SUM(D17:K17))
B18: =IF('Skills Matrix Dark'!B18="","",'Skills Matrix Dark'!B18) | C18: =IF(B18="","",'Skills Matrix Dark'!C18) | D18: =IF(OR($B18="",'Skills Matrix Dark'!D18=""),"",IFERROR(MAX(0,INDEX('Role Targets Dark'!$C$8:$C$25,MATCH($C18,'Role Targets Dark'!$B$8:$B$25,0))-'Skills Matrix Dark'!D18),"")) | E18: =IF(OR($B18="",'Skills Matrix Dark'!E18=""),"",IFERROR(MAX(0,INDEX('Role Targets Dark'!$D$8:$D$25,MATCH($C18,'Role Targets Dark'!$B$8:$B$25,0))-'Skills Matrix Dark'!E18),"")) | F18: =IF(OR($B18="",'Skills Matrix Dark'!F18=""),"",IFERROR(MAX(0,INDEX('Role Targets Dark'!$E$8:$E$25,MATCH($C18,'Role Targets Dark'!$B$8:$B$25,0))-'Skills Matrix Dark'!F18),"")) | G18: =IF(OR($B18="",'Skills Matrix Dark'!G18=""),"",IFERROR(MAX(0,INDEX('Role Targets Dark'!$F$8:$F$25,MATCH($C18,'Role Targets Dark'!$B$8:$B$25,0))-'Skills Matrix Dark'!G18),"")) | H18: =IF(OR($B18="",'Skills Matrix Dark'!H18=""),"",IFERROR(MAX(0,INDEX('Role Targets Dark'!$G$8:$G$25,MATCH($C18,'Role Targets Dark'!$B$8:$B$25,0))-'Skills Matrix Dark'!H18),"")) | I18: =IF(OR($B18="",'Skills Matrix Dark'!I18=""),"",IFERROR(MAX(0,INDEX('Role Targets Dark'!$H$8:$H$25,MATCH($C18,'Role Targets Dark'!$B$8:$B$25,0))-'Skills Matrix Dark'!I18),"")) | J18: =IF(OR($B18="",'Skills Matrix Dark'!J18=""),"",IFERROR(MAX(0,INDEX('Role Targets Dark'!$I$8:$I$25,MATCH($C18,'Role Targets Dark'!$B$8:$B$25,0))-'Skills Matrix Dark'!J18),"")) | K18: =IF(OR($B18="",'Skills Matrix Dark'!K18=""),"",IFERROR(MAX(0,INDEX('Role Targets Dark'!$J$8:$J$25,MATCH($C18,'Role Targets Dark'!$B$8:$B$25,0))-'Skills Matrix Dark'!K18),"")) | L18: =IF(B18="","",SUM(D18:K18)) | N18: CHECK BLANKS FIRST A blank can mean no score or an unmatched role. Totals ignore blanks, so a zero total does not prove that a person is fully assessed. | O18: CHECK BLANKS FIRST A blank can mean no score or an unmatched role. Totals ignore blanks, so a zero total does not prove that a person is fully assessed. | P18: CHECK BLANKS FIRST A blank can mean no score or an unmatched role. Totals ignore blanks, so a zero total does not prove that a person is fully assessed.
B19: =IF('Skills Matrix Dark'!B19="","",'Skills Matrix Dark'!B19) | C19: =IF(B19="","",'Skills Matrix Dark'!C19) | D19: =IF(OR($B19="",'Skills Matrix Dark'!D19=""),"",IFERROR(MAX(0,INDEX('Role Targets Dark'!$C$8:$C$25,MATCH($C19,'Role Targets Dark'!$B$8:$B$25,0))-'Skills Matrix Dark'!D19),"")) | E19: =IF(OR($B19="",'Skills Matrix Dark'!E19=""),"",IFERROR(MAX(0,INDEX('Role Targets Dark'!$D$8:$D$25,MATCH($C19,'Role Targets Dark'!$B$8:$B$25,0))-'Skills Matrix Dark'!E19),"")) | F19: =IF(OR($B19="",'Skills Matrix Dark'!F19=""),"",IFERROR(MAX(0,INDEX('Role Targets Dark'!$E$8:$E$25,MATCH($C19,'Role Targets Dark'!$B$8:$B$25,0))-'Skills Matrix Dark'!F19),"")) | G19: =IF(OR($B19="",'Skills Matrix Dark'!G19=""),"",IFERROR(MAX(0,INDEX('Role Targets Dark'!$F$8:$F$25,MATCH($C19,'Role Targets Dark'!$B$8:$B$25,0))-'Skills Matrix Dark'!G19),"")) | H19: =IF(OR($B19="",'Skills Matrix Dark'!H19=""),"",IFERROR(MAX(0,INDEX('Role Targets Dark'!$G$8:$G$25,MATCH($C19,'Role Targets Dark'!$B$8:$B$25,0))-'Skills Matrix Dark'!H19),"")) | I19: =IF(OR($B19="",'Skills Matrix Dark'!I19=""),"",IFERROR(MAX(0,INDEX('Role Targets Dark'!$H$8:$H$25,MATCH($C19,'Role Targets Dark'!$B$8:$B$25,0))-'Skills Matrix Dark'!I19),"")) | J19: =IF(OR($B19="",'Skills Matrix Dark'!J19=""),"",IFERROR(MAX(0,INDEX('Role Targets Dark'!$I$8:$I$25,MATCH($C19,'Role Targets Dark'!$B$8:$B$25,0))-'Skills Matrix Dark'!J19),"")) | K19: =IF(OR($B19="",'Skills Matrix Dark'!K19=""),"",IFERROR(MAX(0,INDEX('Role Targets Dark'!$J$8:$J$25,MATCH($C19,'Role Targets Dark'!$B$8:$B$25,0))-'Skills Matrix Dark'!K19),"")) | L19: =IF(B19="","",SUM(D19:K19)) | N19: CHECK BLANKS FIRST A blank can mean no score or an unmatched role. Totals ignore blanks, so a zero total does not prove that a person is fully assessed. | O19: CHECK BLANKS FIRST A blank can mean no score or an unmatched role. Totals ignore blanks, so a zero total does not prove that a person is fully assessed. | P19: CHECK BLANKS FIRST A blank can mean no score or an unmatched role. Totals ignore blanks, so a zero total does not prove that a person is fully assessed.
B20: =IF('Skills Matrix Dark'!B20="","",'Skills Matrix Dark'!B20) | C20: =IF(B20="","",'Skills Matrix Dark'!C20) | D20: =IF(OR($B20="",'Skills Matrix Dark'!D20=""),"",IFERROR(MAX(0,INDEX('Role Targets Dark'!$C$8:$C$25,MATCH($C20,'Role Targets Dark'!$B$8:$B$25,0))-'Skills Matrix Dark'!D20),"")) | E20: =IF(OR($B20="",'Skills Matrix Dark'!E20=""),"",IFERROR(MAX(0,INDEX('Role Targets Dark'!$D$8:$D$25,MATCH($C20,'Role Targets Dark'!$B$8:$B$25,0))-'Skills Matrix Dark'!E20),"")) | F20: =IF(OR($B20="",'Skills Matrix Dark'!F20=""),"",IFERROR(MAX(0,INDEX('Role Targets Dark'!$E$8:$E$25,MATCH($C20,'Role Targets Dark'!$B$8:$B$25,0))-'Skills Matrix Dark'!F20),"")) | G20: =IF(OR($B20="",'Skills Matrix Dark'!G20=""),"",IFERROR(MAX(0,INDEX('Role Targets Dark'!$F$8:$F$25,MATCH($C20,'Role Targets Dark'!$B$8:$B$25,0))-'Skills Matrix Dark'!G20),"")) | H20: =IF(OR($B20="",'Skills Matrix Dark'!H20=""),"",IFERROR(MAX(0,INDEX('Role Targets Dark'!$G$8:$G$25,MATCH($C20,'Role Targets Dark'!$B$8:$B$25,0))-'Skills Matrix Dark'!H20),"")) | I20: =IF(OR($B20="",'Skills Matrix Dark'!I20=""),"",IFERROR(MAX(0,INDEX('Role Targets Dark'!$H$8:$H$25,MATCH($C20,'Role Targets Dark'!$B$8:$B$25,0))-'Skills Matrix Dark'!I20),"")) | J20: =IF(OR($B20="",'Skills Matrix Dark'!J20=""),"",IFERROR(MAX(0,INDEX('Role Targets Dark'!$I$8:$I$25,MATCH($C20,'Role Targets Dark'!$B$8:$B$25,0))-'Skills Matrix Dark'!J20),"")) | K20: =IF(OR($B20="",'Skills Matrix Dark'!K20=""),"",IFERROR(MAX(0,INDEX('Role Targets Dark'!$J$8:$J$25,MATCH($C20,'Role Targets Dark'!$B$8:$B$25,0))-'Skills Matrix Dark'!K20),"")) | L20: =IF(B20="","",SUM(D20:K20)) | N20: CHECK BLANKS FIRST A blank can mean no score or an unmatched role. Totals ignore blanks, so a zero total does not prove that a person is fully assessed. | O20: CHECK BLANKS FIRST A blank can mean no score or an unmatched role. Totals ignore blanks, so a zero total does not prove that a person is fully assessed. | P20: CHECK BLANKS FIRST A blank can mean no score or an unmatched role. Totals ignore blanks, so a zero total does not prove that a person is fully assessed.
B21: =IF('Skills Matrix Dark'!B21="","",'Skills Matrix Dark'!B21) | C21: =IF(B21="","",'Skills Matrix Dark'!C21) | D21: =IF(OR($B21="",'Skills Matrix Dark'!D21=""),"",IFERROR(MAX(0,INDEX('Role Targets Dark'!$C$8:$C$25,MATCH($C21,'Role Targets Dark'!$B$8:$B$25,0))-'Skills Matrix Dark'!D21),"")) | E21: =IF(OR($B21="",'Skills Matrix Dark'!E21=""),"",IFERROR(MAX(0,INDEX('Role Targets Dark'!$D$8:$D$25,MATCH($C21,'Role Targets Dark'!$B$8:$B$25,0))-'Skills Matrix Dark'!E21),"")) | F21: =IF(OR($B21="",'Skills Matrix Dark'!F21=""),"",IFERROR(MAX(0,INDEX('Role Targets Dark'!$E$8:$E$25,MATCH($C21,'Role Targets Dark'!$B$8:$B$25,0))-'Skills Matrix Dark'!F21),"")) | G21: =IF(OR($B21="",'Skills Matrix Dark'!G21=""),"",IFERROR(MAX(0,INDEX('Role Targets Dark'!$F$8:$F$25,MATCH($C21,'Role Targets Dark'!$B$8:$B$25,0))-'Skills Matrix Dark'!G21),"")) | H21: =IF(OR($B21="",'Skills Matrix Dark'!H21=""),"",IFERROR(MAX(0,INDEX('Role Targets Dark'!$G$8:$G$25,MATCH($C21,'Role Targets Dark'!$B$8:$B$25,0))-'Skills Matrix Dark'!H21),"")) | I21: =IF(OR($B21="",'Skills Matrix Dark'!I21=""),"",IFERROR(MAX(0,INDEX('Role Targets Dark'!$H$8:$H$25,MATCH($C21,'Role Targets Dark'!$B$8:$B$25,0))-'Skills Matrix Dark'!I21),"")) | J21: =IF(OR($B21="",'Skills Matrix Dark'!J21=""),"",IFERROR(MAX(0,INDEX('Role Targets Dark'!$I$8:$I$25,MATCH($C21,'Role Targets Dark'!$B$8:$B$25,0))-'Skills Matrix Dark'!J21),"")) | K21: =IF(OR($B21="",'Skills Matrix Dark'!K21=""),"",IFERROR(MAX(0,INDEX('Role Targets Dark'!$J$8:$J$25,MATCH($C21,'Role Targets Dark'!$B$8:$B$25,0))-'Skills Matrix Dark'!K21),"")) | L21: =IF(B21="","",SUM(D21:K21)) | N21: CHECK BLANKS FIRST A blank can mean no score or an unmatched role. Totals ignore blanks, so a zero total does not prove that a person is fully assessed. | O21: CHECK BLANKS FIRST A blank can mean no score or an unmatched role. Totals ignore blanks, so a zero total does not prove that a person is fully assessed. | P21: CHECK BLANKS FIRST A blank can mean no score or an unmatched role. Totals ignore blanks, so a zero total does not prove that a person is fully assessed.
